BEGIN:VCALENDAR
VERSION:2.0
PRODID:-//Kentucky Waterways Alliance - ECPv6.15.17//NONSGML v1.0//EN
CALSCALE:GREGORIAN
METHOD:PUBLISH
X-WR-CALNAME:Kentucky Waterways Alliance
X-ORIGINAL-URL:https://kwalliance.mediauradev.com
X-WR-CALDESC:Events for Kentucky Waterways Alliance
REFRESH-INTERVAL;VALUE=DURATION:PT1H
X-Robots-Tag:noindex
X-PUBLISHED-TTL:PT1H
BEGIN:VTIMEZONE
TZID:UTC
BEGIN:STANDARD
TZOFFSETFROM:+0000
TZOFFSETTO:+0000
TZNAME:UTC
DTSTART:20250101T000000
END:STANDARD
END:VTIMEZONE
BEGIN:VEVENT
DTSTART;TZID=UTC:20260513T080000
DTEND;TZID=UTC:20260513T170000
DTSTAMP:20260419T183305
CREATED:20260122T212727Z
LAST-MODIFIED:20260130T182351Z
UID:395-1778659200-1778691600@kwalliance.mediauradev.com
SUMMARY:Event 2
DESCRIPTION:Velit egestas dui id ornare arcu odio. Imperdiet nulla malesuada pellentesque elit eget gravida.
URL:https://kwalliance.mediauradev.com/event/event-2/
CATEGORIES:Test Category
ATTACH;FMTTYPE=image/png:https://kwalliance.mediauradev.com/wp-content/uploads/2026/01/Particpatory-Fishing-Day-photos-2.png
END:VEVENT
END:VCALENDAR